BEGIN:VCALENDAR
VERSION:2.0
PRODID:-//Duxbury Student Union - ECPv6.15.20//NONSGML v1.0//EN
CALSCALE:GREGORIAN
METHOD:PUBLISH
X-ORIGINAL-URL:https://duxburystudentunion.org
X-WR-CALDESC:Events for Duxbury Student Union
REFRESH-INTERVAL;VALUE=DURATION:PT1H
X-Robots-Tag:noindex
X-PUBLISHED-TTL:PT1H
BEGIN:VTIMEZONE
TZID:America/New_York
BEGIN:DAYLIGHT
TZOFFSETFROM:-0500
TZOFFSETTO:-0400
TZNAME:EDT
DTSTART:20230312T070000
END:DAYLIGHT
BEGIN:STANDARD
TZOFFSETFROM:-0400
TZOFFSETTO:-0500
TZNAME:EST
DTSTART:20231105T060000
END:STANDARD
BEGIN:DAYLIGHT
TZOFFSETFROM:-0500
TZOFFSETTO:-0400
TZNAME:EDT
DTSTART:20240310T070000
END:DAYLIGHT
BEGIN:STANDARD
TZOFFSETFROM:-0400
TZOFFSETTO:-0500
TZNAME:EST
DTSTART:20241103T060000
END:STANDARD
BEGIN:DAYLIGHT
TZOFFSETFROM:-0500
TZOFFSETTO:-0400
TZNAME:EDT
DTSTART:20250309T070000
END:DAYLIGHT
BEGIN:STANDARD
TZOFFSETFROM:-0400
TZOFFSETTO:-0500
TZNAME:EST
DTSTART:20251102T060000
END:STANDARD
END:VTIMEZONE
BEGIN:VEVENT
DTSTART;TZID=America/New_York:20240206T103000
DTEND;TZID=America/New_York:20240206T160000
DTSTAMP:20260424T103044
CREATED:20240123T222339Z
LAST-MODIFIED:20240201T011105Z
UID:10000109-1707215400-1707235200@duxburystudentunion.org
SUMMARY:Peace\, Love\, and Super Bowl Camp
DESCRIPTION:Peace\, Love\, and Super Bowl Camp is Thursday\, February 6th 10:30am – 4:00pm\nMake your predictions at Peace\, Love\, and Super Bowl Camp on February 6th\, 2024! Join DSU for buzzer-beating activities like Super Bowl Jeopardy\, where young minds can showcase their football knowledge. Enhance your skills and agility with combine training\, and put creativity to the test with football-themed art projects. Don’t miss out on this epic sports adventure! \nBring your lunch\, or buy a punch card for lunch and a Blender snack. \nOpen to all Alden\, DMS and 1st & 2nd grade Chandler School students \n\n$65 per camper\nDrop at 9am\nPickup at 2pm.\nAdd a $6 for Lunch (includes Peel Pizza lunch and a Blender snack)\n\n 
URL:https://duxburystudentunion.org/event/peace-love-and-super-bowl-camp/
LOCATION:MA
CATEGORIES:After School,Camp,Duxbury Schools
ATTACH;FMTTYPE=image/png:https://duxburystudentunion.org/wp-content/uploads/2024/01/Peace-Love-and-SuperBowl-Camp.png
END:VEVENT
BEGIN:VEVENT
DTSTART;TZID=America/New_York:20240220T090000
DTEND;TZID=America/New_York:20240220T140000
DTSTAMP:20260424T103044
CREATED:20240123T200528Z
LAST-MODIFIED:20240123T200528Z
UID:10000107-1708419600-1708437600@duxburystudentunion.org
SUMMARY:Lunar New Year Cooking Camp [Feb. Vacation!]
DESCRIPTION:Lunar New Year Cooking Camp is Tuesday\, February 20th 9am – 2:00pm\nAttention all chefs\, bakers\, and food aficionados! Ring in the Year of the Dragon with our Lunar New Year Cooking Camp. Campers will help cook a delicious Chinese food lunch\, create paper lanterns\, and practice their calligraphy skills. To top it all off\, they will write their own fortunes and bake fortune cookies from scratch. \nBring your lunch\, or buy a punch card for lunch and a Blender snack. \nOpen to all Alden\, DMS and 1st & 2nd grade Chandler School students \n\n$65 per camper\nDrop at 9am\nPickup at 2pm.\nAdd a $6 for Lunch (includes Peel Pizza lunch and a Blender snack)\n\n 
URL:https://duxburystudentunion.org/event/lunar-new-year-cooking-camp-feb-vacation/
LOCATION:MA
CATEGORIES:After School,Camp,Duxbury Schools
ATTACH;FMTTYPE=image/png:https://duxburystudentunion.org/wp-content/uploads/2024/01/FEB-CAMPS-41.png
END:VEVENT
BEGIN:VEVENT
DTSTART;TZID=America/New_York:20240221T090000
DTEND;TZID=America/New_York:20240221T140000
DTSTAMP:20260424T103044
CREATED:20240123T201020Z
LAST-MODIFIED:20240209T194339Z
UID:10000106-1708506000-1708524000@duxburystudentunion.org
SUMMARY:Superbowl Swifties Camp  [Feb. Vacation!]
DESCRIPTION:Superbowl Swifties Camp is Wednesday\, February 21st 9am – 2:00pm \nCalling all Swifities & Football Fanatics! DSU is hosting the coolest combo camp this February Break. Are you a lover of all things Taylor Swift or football? We have 1989 reasons you should join us to take part in a day of cool crafts and flag football for our fearless competitors. Campers will put their knowledge to the test with Jeopardy. We can’t wait to see you for the most hyped up camp of the year!\n\nBring your lunch\, or buy a punch card for lunch and a Blender snack. \nOpen to all Alden\, DMS and 1st & 2nd grade Chandler School students \n\n$65 per camper\nDrop at 9am\nPickup at 2pm.\nAdd a $6 for Lunch (includes Peel Pizza lunch and a Blender snack)\n\n 
URL:https://duxburystudentunion.org/event/superbowl-swifties-camp-feb-vacation/
LOCATION:MA
CATEGORIES:After School,Camp,Duxbury Schools
ATTACH;FMTTYPE=image/png:https://duxburystudentunion.org/wp-content/uploads/2024/01/FEB-CAMPS-21.png
END:VEVENT
BEGIN:VEVENT
DTSTART;TZID=America/New_York:20240222T090000
DTEND;TZID=America/New_York:20240222T140000
DTSTAMP:20260424T103044
CREATED:20240123T201314Z
LAST-MODIFIED:20240201T011615Z
UID:10000105-1708592400-1708610400@duxburystudentunion.org
SUMMARY:Among Us IRL Camp [Feb. Vacation!]
DESCRIPTION:Among Us IRL Camp is Thursday\, February 22nd 9am – 2:00pm\nCalling all gamers! Brush up on your detective skills and get ready to bring Among Us to life! Create your character\, learn your tasks\, and try to suss out the imposter before everyone is eliminated! \nBring your lunch\, or buy a punch card for lunch and a Blender snack. \nOpen to all Alden\, DMS and 1st & 2nd grade Chandler School students \n\n$65 per camper\nDrop at 9am\nPickup at 2pm.\nAdd a $6 for Lunch (includes Peel Pizza lunch and a Blender snack)\n\n  \n  \n 
URL:https://duxburystudentunion.org/event/among-us-camp-february-2024/
LOCATION:MA
CATEGORIES:After School,Camp,Duxbury Schools
ATTACH;FMTTYPE=image/png:https://duxburystudentunion.org/wp-content/uploads/2024/01/FEB-CAMPS-31.png
END:VEVENT
END:VCALENDAR