BEGIN:VCALENDAR
VERSION:2.0
PRODID:-//Duxbury Student Union - ECPv6.15.20//NONSGML v1.0//EN
CALSCALE:GREGORIAN
METHOD:PUBLISH
X-WR-CALNAME:Duxbury Student Union
X-ORIGINAL-URL:https://duxburystudentunion.org
X-WR-CALDESC:Events for Duxbury Student Union
REFRESH-INTERVAL;VALUE=DURATION:PT1H
X-Robots-Tag:noindex
X-PUBLISHED-TTL:PT1H
BEGIN:VTIMEZONE
TZID:America/New_York
BEGIN:DAYLIGHT
TZOFFSETFROM:-0500
TZOFFSETTO:-0400
TZNAME:EDT
DTSTART:20220313T070000
END:DAYLIGHT
BEGIN:STANDARD
TZOFFSETFROM:-0400
TZOFFSETTO:-0500
TZNAME:EST
DTSTART:20221106T060000
END:STANDARD
BEGIN:DAYLIGHT
TZOFFSETFROM:-0500
TZOFFSETTO:-0400
TZNAME:EDT
DTSTART:20230312T070000
END:DAYLIGHT
BEGIN:STANDARD
TZOFFSETFROM:-0400
TZOFFSETTO:-0500
TZNAME:EST
DTSTART:20231105T060000
END:STANDARD
BEGIN:DAYLIGHT
TZOFFSETFROM:-0500
TZOFFSETTO:-0400
TZNAME:EDT
DTSTART:20240310T070000
END:DAYLIGHT
BEGIN:STANDARD
TZOFFSETFROM:-0400
TZOFFSETTO:-0500
TZNAME:EST
DTSTART:20241103T060000
END:STANDARD
BEGIN:DAYLIGHT
TZOFFSETFROM:-0500
TZOFFSETTO:-0400
TZNAME:EDT
DTSTART:20250309T070000
END:DAYLIGHT
BEGIN:STANDARD
TZOFFSETFROM:-0400
TZOFFSETTO:-0500
TZNAME:EST
DTSTART:20251102T060000
END:STANDARD
END:VTIMEZONE
BEGIN:VEVENT
DTSTART;TZID=America/New_York:20231201T190000
DTEND;TZID=America/New_York:20231201T220000
DTSTAMP:20260424T203646
CREATED:20231127T185310Z
LAST-MODIFIED:20231127T185310Z
UID:10000104-1701457200-1701468000@duxburystudentunion.org
SUMMARY:Holiday Coffee House
DESCRIPTION:DSU’s Holiday Coffee House is back! \nCalling all High School Musicians… \nMusicians of all genres\, DHS High School students college musicians\, and private school students are welcome to perform. Individuals\, duets\, and bands. \nPerformers may prepare and perform up to 3 songs \nArrive at DSU at 5pm for sound check with Boston’s Okuns Sound Engineer. it’s the perfect environment to film an audition reel with a supportive\, engaged crowd cheering you on. \nEvent starts at 7pm. Invite friends\, family\, alumni and fans. \nAdmission is free for students. Adults pay $10.
URL:https://duxburystudentunion.org/event/holiday-coffee-house-2023/
LOCATION:MA
CATEGORIES:After School,Community,Duxbury Schools
ATTACH;FMTTYPE=image/jpeg:https://duxburystudentunion.org/wp-content/uploads/2022/12/Holiday-Coffee-House-2000-×-2000-px1.jpg
END:VEVENT
BEGIN:VEVENT
DTSTART;TZID=America/New_York:20231207T103000
DTEND;TZID=America/New_York:20231207T160000
DTSTAMP:20260424T203646
CREATED:20231127T160514Z
LAST-MODIFIED:20231127T164603Z
UID:10000103-1701945000-1701964800@duxburystudentunion.org
SUMMARY:Holidays Around the World Camp
DESCRIPTION:Join us December 7th to celebrate a variety of winter holidays from around the world! This half-day camp is the perfect way to get in the holiday spirit. We will create our own dreidels\, make Kwanzaa-themed bracelets\,and create holiday gnome paintings. Campers will create one-of-a-kind holiday gifts to wrap and bring home\, ready to give to family and friends.  \nAlden students\, bring your bathing suit for swimming at Percy Walker Pool at 11am. If it is your first time swimming this school year\, please complete the Percy Walker Swim Waiver. \nBring your lunch or purchase a $6 punch card for pizza lunch and a festive snack. \nOpen to all Alden\, DMS and 1st & 2nd grade Chandler School students* \n\n$65 Alden starts at 10:30am. DSU staff meet Alden Students and walk to DSU\n$65 DMS friends may join us at 11:20am\n$60 Chandler starts at 12:30pm*\nAdd a $6 for Lunch (includes Peel Pizza lunch and a Blender snack)\n\n*1st and 2nd grade Chandler students are welcome to join the fun at 12:30pm as long as they have a ride to DSU. Please note\, Kindergartners with an older sibling currently enrolled in DSU Alden or DMS after school programs may attend\, as an exception.
URL:https://duxburystudentunion.org/event/holidays-around-the-world-camp-december-2023/
LOCATION:MA
CATEGORIES:After School,Camp
ATTACH;FMTTYPE=image/png:https://duxburystudentunion.org/wp-content/uploads/2023/11/Holidays-around-the-world-camp.png
END:VEVENT
BEGIN:VEVENT
DTSTART;VALUE=DATE:20231223
DTEND;VALUE=DATE:20240102
DTSTAMP:20260424T203646
CREATED:20220927T203052Z
LAST-MODIFIED:20231127T185111Z
UID:10000040-1703289600-1704153599@duxburystudentunion.org
SUMMARY:Winter/Holiday Break - No DSU
DESCRIPTION:Happy Holidays and enjoy your winter break! DSU is closed.
URL:https://duxburystudentunion.org/event/winter-holiday-break-no-dsu/
LOCATION:MA
CATEGORIES:After School,Community,Duxbury Schools
ATTACH;FMTTYPE=image/png:https://duxburystudentunion.org/wp-content/uploads/2022/09/holidays.png
END:VEVENT
END:VCALENDAR