BEGIN:VCALENDAR
VERSION:2.0
PRODID:-//Duxbury Student Union - ECPv6.15.20//NONSGML v1.0//EN
CALSCALE:GREGORIAN
METHOD:PUBLISH
X-ORIGINAL-URL:https://duxburystudentunion.org
X-WR-CALDESC:Events for Duxbury Student Union
REFRESH-INTERVAL;VALUE=DURATION:PT1H
X-Robots-Tag:noindex
X-PUBLISHED-TTL:PT1H
BEGIN:VTIMEZONE
TZID:America/New_York
BEGIN:DAYLIGHT
TZOFFSETFROM:-0500
TZOFFSETTO:-0400
TZNAME:EDT
DTSTART:20240310T070000
END:DAYLIGHT
BEGIN:STANDARD
TZOFFSETFROM:-0400
TZOFFSETTO:-0500
TZNAME:EST
DTSTART:20241103T060000
END:STANDARD
BEGIN:DAYLIGHT
TZOFFSETFROM:-0500
TZOFFSETTO:-0400
TZNAME:EDT
DTSTART:20250309T070000
END:DAYLIGHT
BEGIN:STANDARD
TZOFFSETFROM:-0400
TZOFFSETTO:-0500
TZNAME:EST
DTSTART:20251102T060000
END:STANDARD
BEGIN:DAYLIGHT
TZOFFSETFROM:-0500
TZOFFSETTO:-0400
TZNAME:EDT
DTSTART:20260308T070000
END:DAYLIGHT
BEGIN:STANDARD
TZOFFSETFROM:-0400
TZOFFSETTO:-0500
TZNAME:EST
DTSTART:20261101T060000
END:STANDARD
BEGIN:DAYLIGHT
TZOFFSETFROM:-0500
TZOFFSETTO:-0400
TZNAME:EDT
DTSTART:20270314T070000
END:DAYLIGHT
BEGIN:STANDARD
TZOFFSETFROM:-0400
TZOFFSETTO:-0500
TZNAME:EST
DTSTART:20271107T060000
END:STANDARD
END:VTIMEZONE
BEGIN:VEVENT
DTSTART;VALUE=DATE:20251031
DTEND;VALUE=DATE:20251101
DTSTAMP:20260425T065359
CREATED:20251001T141935Z
LAST-MODIFIED:20251001T142846Z
UID:10000161-1761868800-1761955199@duxburystudentunion.org
SUMMARY:Halloween! DSU Closes at 4:00pm
DESCRIPTION:Halloween is Thursday October 31st. DSU will close at 4:00pm so that parents and staff can get home and prepare for trick or treating. Please make arrangements accordingly for pickup. 
URL:https://duxburystudentunion.org/event/halloween-dsu-closes-at-400pm/
LOCATION:MA
CATEGORIES:After School,Community,Duxbury Schools
ATTACH;FMTTYPE=image/jpeg:https://duxburystudentunion.org/wp-content/uploads/2025/10/Happy-Halloween-DSU1.jpg
END:VEVENT
BEGIN:VEVENT
DTSTART;TZID=America/New_York:20251104T090000
DTEND;TZID=America/New_York:20251104T140000
DTSTAMP:20260425T065359
CREATED:20251021T233900Z
LAST-MODIFIED:20251022T122915Z
UID:10000162-1762246800-1762264800@duxburystudentunion.org
SUMMARY:Rock the Vote: 2025 Election Day Camp
DESCRIPTION:Imagine if every camper left not just with memories but with the power to vote for their future\nThis Election Day\, November 4th\, 9am-2pm DSU invites kids to Rock the Vote at our one-of-a-kind Election Day Camp! From choosing snacks  to activities to lunch\, every voice counts. \nOne thing’s already decided: we’re swimming at 1:00pm!\nSo bring your best ideas\, cast your ballot\, and see where your vote takes us. \nDemocracy starts here\, one vote at a time.  \nCamp is open to all Duxbury youth\, Chandler (1st grade+) through middle school. Bring your bathing suit for Percy Walker pool time too. Pick up is by 2pm (Late fees of $25 are charged for each 15 minutes after 2pm).  \nSpace is limited so act fast!\nWhat to bring: \n\nBring a bathing suit\, towel. Goggles are optional.\nAll campers are required to complete a 2025 School Year Percy Walker Pool consent form.\nCampers may bring nut-free snacks and a water bottle. Pizza lunch and Blender Café treat is included in the price of camp.\n\nCost: $75 per student camp fee includes pizza lunch\, ice cream treat\, and swimming at Percy Walker Pool
URL:https://duxburystudentunion.org/event/rock-the-vote-2025-election-day-camp/
LOCATION:Duxbury Student Union\, 147 St. George Street\, Duxbury\, MA\, 02332\, United States
CATEGORIES:After School,Camp,Duxbury Schools
ATTACH;FMTTYPE=image/png:https://duxburystudentunion.org/wp-content/uploads/2025/10/25-Rock-the-Vote-Instagram-Post-45.png
END:VEVENT
BEGIN:VEVENT
DTSTART;TZID=America/New_York:20251111T090000
DTEND;TZID=America/New_York:20251111T140000
DTSTAMP:20260425T065359
CREATED:20251027T201031Z
LAST-MODIFIED:20251027T201314Z
UID:10000163-1762851600-1762869600@duxburystudentunion.org
SUMMARY:3D Innovation Nation Camp at DSU
DESCRIPTION:Celebrate. Dream. Build. Imagine.\nCalling all young creators! On Tuesday\, November 11\, we’re hosting our most imaginative camp day yet and we need your ideas to bring it to life. We’ll be building amazing art\, honoring veterans and go on an adventure. If you love thinking big\, creating boldly\, and working with friends to make ideas come alive\, this is your camp day to shine. \nBring your imagination. Leave your mark. Build the best camp day ever! \nBring your lunch or enjoy Benchwarmers pizza.  This camp is open to all Alden\, Chandler and DMS students.  \nCamp is open to all Duxbury youth\, Chandler (1st grade+) through middle school. Pick up is by 2pm (Late fees of $25 are charged for each 15 minutes after 2pm).  \nSpace is limited so act fast! \nCost: $75 per student camp fee includes pizza lunch from Benchwarmers and Blender Café treat.
URL:https://duxburystudentunion.org/event/3d-innovation-nation-camp-at-dsu/
LOCATION:Duxbury Student Union\, 147 St. George Street\, Duxbury\, MA\, 02332\, United States
CATEGORIES:After School,Camp,Duxbury Schools
ATTACH;FMTTYPE=image/jpeg:https://duxburystudentunion.org/wp-content/uploads/2025/10/3D-Innovation-Nation-Camp.jpg
END:VEVENT
BEGIN:VEVENT
DTSTART;TZID=America/New_York:20251113T111500
DTEND;TZID=America/New_York:20251113T144500
DTSTAMP:20260425T065359
CREATED:20251029T175942Z
LAST-MODIFIED:20251110T190006Z
UID:10000164-1763032500-1763045100@duxburystudentunion.org
SUMMARY:DSU Amazing Race: No GPS. No Google. Just Grits.
DESCRIPTION:Grab your DMS squad for this fast-paced challenge across Duxbury. Teams will solve clues\, complete detours\, and earn points at local businesses. Every stop is a new adventure\, and every decision could change your standing. \nNo phones. No shortcuts. Just teamwork\, quick thinking\, and community spirit. \nDate/Time: Thursday\, November 13\, 2025 • 11:15 AM–2:45 PM\nStart: Duxbury Library Bus Stop • Finish: DSU\nCost: $40 (includes lunch valued at $10)\nFor DMS Students: Grades 6\,7\,8\nPrize: $50 to the winning team + bragging rights as The 2025 Amazing Race Champion.\nRound up your crew. It’s game on! \nNow Accepting Wait List Signups Only.  Please add your student to the wait list below now. We hope to be able to accommodate everyone who is interested but need to be sure we have enough staff available to ensure we have a fun -and safe – day of travels!
URL:https://duxburystudentunion.org/event/dsu-amazing-race-no-gps-no-google-just-grits/
LOCATION:MA
CATEGORIES:After School,Camp,Community,Duxbury Schools
ATTACH;FMTTYPE=image/jpeg:https://duxburystudentunion.org/wp-content/uploads/2025/10/DSU-Amazing-Race-2025-new-times.jpg
END:VEVENT
BEGIN:VEVENT
DTSTART;TZID=America/New_York:20260116T103000
DTEND;TZID=America/New_York:20260116T160000
DTSTAMP:20260425T065359
CREATED:20260109T214115Z
LAST-MODIFIED:20260109T214115Z
UID:10000165-1768559400-1768579200@duxburystudentunion.org
SUMMARY:DSU Kids Choice Awards Camp 2026
DESCRIPTION:Don’t miss DSU’s Annual Kids Choice Awards Camp on Friday\, January 16\, 10:30 AM – 4:00 PM at DSU \nDr. Martin Luther King Jr. showed us the power of kindness\, courage\, and building community. At the DSU Kids Choice Awards\, campers celebrate those same values in each other! Through fun challenges and surprises\, we recognize perseverance\, friendship\, creativity\, and kindness\, while cheering on everyone’s unique gifts. We’ll create\, compete\, eat pizza\, swim\, and even write an acceptance speech for a truly unforgettable moment. \nAlden students meet DSU staff in the Alden Lobby at 10:30am.  DMS walks over at 11:15am. Chandler 1st and 2nd grade can be dropped off at 12:30pm. Swim at 1:00pm. \nWhat to bring: \n\nBring a bathing suit\, towel. Goggles are optional.\nAll campers are required to complete a one-time Percy Walker Pool consent form for the 2025-26 school year.\nCampers may bring nut-free snacks and a water bottle.\nPizza lunch and Blender Cafe treat is included in the price of camp.\nPlease advise of any allergies.\n\nFee: $75 Alden /$65 Chandler per student (includes Pizza\, treat\, and swim) \nA late fee is $25 for every 15 minutes after 4pm. Please make dismissal plans with DSU and your child prior to the end of the day. All camp fees are non-refundable. 
URL:https://duxburystudentunion.org/event/dsu-kids-choice-awards-camp-2026/
LOCATION:Duxbury Student Union\, 147 St. George Street\, Duxbury\, MA\, 02332\, United States
CATEGORIES:After School,Camp,Duxbury Schools
ATTACH;FMTTYPE=image/jpeg:https://duxburystudentunion.org/wp-content/uploads/2026/01/DSU-Kids-Choice-Awards-2026-Friday-Jan-16.jpg
END:VEVENT
BEGIN:VEVENT
DTSTART;TZID=America/New_York:20260212T103000
DTEND;TZID=America/New_York:20260212T160000
DTSTAMP:20260425T065359
CREATED:20260122T112337Z
LAST-MODIFIED:20260122T181034Z
UID:10000168-1770892200-1770912000@duxburystudentunion.org
SUMMARY:For the Love of the Game Camp 2026
DESCRIPTION:Join in For the Love of the Game camp on Thursday February 12th 10:30am -4:00pm. \nWe’re New England kids. We love our friends\, cheer with heart\, and live for game day! This camp mash-up brings together Valentine vibes and Super Bowl fun. Campers will relive the funniest commercials\, learn lessons from NFL greats\, jump into friendly competitions\, relax in the pool\, and enjoy some classic Super Bowl snacks. It’s a day packed with teamwork\, laughs\, and love for the game! \nAlden students meet DSU staff in the Alden Lobby at 10:30am.  DMS walks over at 11:15am. Chandler 1st and 2nd grade can be dropped off at 12:30pm. Swim at 1:00pm. \nWhat to bring: \n\nBring a bathing suit\, towel. Goggles are optional.\nAll campers are required to complete a one-time Percy Walker Pool consent form for the 2025-26 school year.\nCampers may bring nut-free snacks and a water bottle.\nPizza lunch and Blender Cafe treat is included in the price of camp.\nPlease advise of any allergies.\n\nFee: $75 Alden /$65 Chandler per student (includes Pizza\, treat\, and swim) \nA late fee is $25 for every 15 minutes after 4pm. Please make dismissal plans with DSU and your child prior to the end of the day. All camp fees are non-refundable. 
URL:https://duxburystudentunion.org/event/for-the-love-of-the-game-camp-2026/
LOCATION:Duxbury Student Union\, 147 St. George Street\, Duxbury\, MA\, 02332\, United States
CATEGORIES:After School,Camp,Duxbury Schools
ATTACH;FMTTYPE=image/jpeg:https://duxburystudentunion.org/wp-content/uploads/2026/01/Love-of-the-Game-camp-2026.jpg
END:VEVENT
BEGIN:VEVENT
DTSTART;TZID=America/New_York:20260217T090000
DTEND;TZID=America/New_York:20260217T140000
DTSTAMP:20260425T065359
CREATED:20260122T113408Z
LAST-MODIFIED:20260122T181127Z
UID:10000167-1771318800-1771336800@duxburystudentunion.org
SUMMARY:DSU Mardi Gras Staycation Camp 2026
DESCRIPTION:Teleport to Mardi Gras for Fat Tuesday. Tuesday\, February 17th – 9am-2pm \nPack your imagination because we’re teleporting to New Orleans! Campers will design dazzling Mardi Gras masks\, parade in style\, and party at a delicious pancake celebration. With trivia\, games\, music\, and swimming at Percy Walker\, this high-energy day brings the colors\, sounds\, and spirit of Mardi Gras to life. \nWhat to bring: \n\nBring a bathing suit\, towel. Goggles are optional.\nAll campers are required to complete a one-time Percy Walker Pool consent form for the 2025-26 school year.\nCampers may bring nut-free snacks and a water bottle.\nPancakes and Blender Cafe treat is included in the price of camp.\nPlease advise of any allergies.\n\nFee: $75 per student (includes Pancakes\, treat\, and swim) \nA late fee is $25 for every 15 minutes after 2pm. Please make dismissal plans with DSU and your child prior to the end of the day. All camp fees are non-refundable. 
URL:https://duxburystudentunion.org/event/dsu-mardi-gras-staycation-camp-2026/
LOCATION:Duxbury Student Union\, 147 St. George Street\, Duxbury\, MA\, 02332\, United States
CATEGORIES:After School,Camp,Duxbury Schools
ATTACH;FMTTYPE=image/jpeg:https://duxburystudentunion.org/wp-content/uploads/2026/01/mardi-gras-camp-2026.jpg
END:VEVENT
BEGIN:VEVENT
DTSTART;TZID=America/New_York:20260219T090000
DTEND;TZID=America/New_York:20260219T140000
DTSTAMP:20260425T065359
CREATED:20260122T113926Z
LAST-MODIFIED:20260122T181129Z
UID:10000166-1771491600-1771509600@duxburystudentunion.org
SUMMARY:DSU Winter Wacky Olympics Staycation Camp 2026
DESCRIPTION:DSU is Home to the Winter Wacky Olympics! Thursday February 19th – 9am-2pm\nWelcome to the DSU Olympic Village\, where winter sports get a wacky twist! Campers will compete in creative challenges\, celebrate teamwork\, and show off their Olympic spirit. Please pack snow gear for outdoor events\, comfy slippers or socks for village time\, and a swimsuit for relaxing pool recovery. Wear your favorite team colors and get ready for a day of healthy competition\, laughter\, and medal-worthy fun! \nWhat to bring: \n\nSnow gear for outdoor events\nSlippers or socks for indoor time\nA bathing suit and towel for swim. Goggles are optional.\nAll campers are required to complete a one-time Percy Walker Pool consent form for the 2025-26 school year.\nCampers may bring nut-free snacks and a water bottle.\nPizza lunch and Blender Cafe treat is included in the price of camp.\nPlease advise of any allergies.\n\nFee: $75  per student (includes Pizza\, treat\, and swim) \nA late fee is $25 for every 15 minutes after 2pm. Please make dismissal plans with DSU and your child prior to the end of the day. All camp fees are non-refundable. 
URL:https://duxburystudentunion.org/event/dsu-winter-wacky-olympics-staycation-camp-2026/
LOCATION:Duxbury Student Union\, 147 St. George Street\, Duxbury\, MA\, 02332\, United States
CATEGORIES:After School,Camp,Duxbury Schools
ATTACH;FMTTYPE=image/jpeg:https://duxburystudentunion.org/wp-content/uploads/2026/01/wacky-olympics-2026.jpg
END:VEVENT
BEGIN:VEVENT
DTSTART;TZID=America/New_York:20260312T103000
DTEND;TZID=America/New_York:20260312T160000
DTSTAMP:20260425T065359
CREATED:20260303T174443Z
LAST-MODIFIED:20260304T162541Z
UID:10000169-1773311400-1773331200@duxburystudentunion.org
SUMMARY:DSU March Madness Camp 2026
DESCRIPTION:Join us for a slam-dunk day of fun at DSU on Thursday\, March 12th from 10:30 AM – 4:00 PM! This camp is perfect for teammates\, friendly competitors\, creative thinkers\, courtside reporters\, and game-day gourmets. Campers will enjoy basketball challenges\, sports commentary fun\, swimming and more! \nAlden students meet DSU staff in the Alden Lobby at 10:30am.  DMS walks over at 11:15am. Chandler 1st and 2nd grade can be dropped off at 12:30pm. Swim at 1:00pm. \nWhat to bring: \n\nBring a bathing suit\, towel. Goggles are optional.\nAll campers are required to complete a one-time Percy Walker Pool consent form for the 2025-26 school year.\nCampers may bring nut-free snacks and a water bottle.\nPizza lunch and Blender Cafe treat is included in the price of camp.\nPlease advise of any allergies.\n\nFee: $75 Alden /$65 Chandler per student (includes Pizza\, treat\, and swim) \nA late fee is $25 for every 15 minutes after 4pm. Please make dismissal plans with DSU and your child prior to the end of the day. All camp fees are non-refundable. 
URL:https://duxburystudentunion.org/event/dsu-march-madness-2026/
LOCATION:Duxbury Student Union\, 147 St. George Street\, Duxbury\, MA\, 02332\, United States
CATEGORIES:After School,Camp,Duxbury Schools
ATTACH;FMTTYPE=image/jpeg:https://duxburystudentunion.org/wp-content/uploads/2026/03/DSU-March-Madness-Camp-2026.jpg
END:VEVENT
BEGIN:VEVENT
DTSTART;TZID=America/New_York:20260325T103000
DTEND;TZID=America/New_York:20260325T160000
DTSTAMP:20260425T065359
CREATED:20260304T161906Z
LAST-MODIFIED:20260304T162511Z
UID:10000171-1774434600-1774454400@duxburystudentunion.org
SUMMARY:Wacky Whiz Camp 2026
DESCRIPTION:Join us for Wacky Whiz Camp at DSU on Wednesday\, March 25th from 10:30 AM – 4:00 PM! \nCalling all wildly creative thinkers! What if useful was overrated? What if the BEST ideas were a little ridiculous? What if camp was part invention lab\, part comedy stage\, part swimming pool wacky olympics? \nWelcome to Wacky Whiz Camp where kids: \n\nInvent hilariously useless gadgets\nMake up scenes on the spot (no scripts\, no stress!)\nSwim\, splash\, and create the impossible\nLaugh A LOT\n\nThis is a camp for kids who love to create\, perform\, tinker\, and think sideways. \nConfidence grows. Creativity explodes. Silly is celebrated. \nAlden students meet DSU staff in the Alden Lobby at 10:30am.  DMS walks over at 11:15am. Chandler 1st and 2nd grade can be dropped off at 12:30pm. Swim at 1:00pm. \nWhat to bring: \n\nBring a bathing suit\, towel. Goggles are optional.\nAll campers are required to complete a one-time Percy Walker Pool consent form for the 2025-26 school year.\nCampers may bring nut-free snacks and a water bottle.\nPizza lunch and Blender Cafe treat is included in the price of camp.\nPlease advise of any allergies.\n\nFee: $75 Alden /$65 Chandler per student (includes Pizza\, treat\, and swim) \nA late fee is $25 for every 15 minutes after 4pm. Please make dismissal plans with DSU and your child prior to the end of the day. All camp fees are non-refundable. 
URL:https://duxburystudentunion.org/event/wacky-whiz-camp-2026/
LOCATION:Duxbury Student Union\, 147 St. George Street\, Duxbury\, MA\, 02332\, United States
CATEGORIES:After School,Camp,Duxbury Schools
ATTACH;FMTTYPE=image/jpeg:https://duxburystudentunion.org/wp-content/uploads/2026/03/Wacky-Whiz-Camp-March-25-2026-at-DSU.jpg
END:VEVENT
BEGIN:VEVENT
DTSTART;TZID=America/New_York:20260326T103000
DTEND;TZID=America/New_York:20260326T160000
DTSTAMP:20260425T065359
CREATED:20260304T162453Z
LAST-MODIFIED:20260304T162453Z
UID:10000170-1774521000-1774540800@duxburystudentunion.org
SUMMARY:Operation: Deep Code Camp 2026
DESCRIPTION:Join us on Thursday\, March 26th from 10:30 AM – 4:00 PM for Operation: Deep Code Camp where campers become Special Agents and crack codes\, dive for clues\, solve puzzles under pressure\, and work as a team to stop a mysterious cyber breach. This is not a screen-based camp. This is about brains + bravery + diving for the clues. \nAlden students meet DSU staff in the Alden Lobby at 10:30am.  DMS walks over at 11:15am. Chandler 1st and 2nd grade can be dropped off at 12:30pm. Swim at 1:00pm. \nWhat to bring: \n\nBring a bathing suit\, towel. Goggles are optional.\nAll campers are required to complete a one-time Percy Walker Pool consent form for the 2025-26 school year.\nCampers may bring nut-free snacks and a water bottle.\nPizza lunch and Blender Cafe treat is included in the price of camp.\nPlease advise of any allergies.\n\nFee: $75 Alden /$65 Chandler per student (includes Pizza\, treat\, and swim) \nA late fee is $25 for every 15 minutes after 4pm. Please make dismissal plans with DSU and your child prior to the end of the day. All camp fees are non-refundable. 
URL:https://duxburystudentunion.org/event/operation-deep-code-camp-2026/
LOCATION:Duxbury Student Union\, 147 St. George Street\, Duxbury\, MA\, 02332\, United States
CATEGORIES:After School,Camp,Duxbury Schools
ATTACH;FMTTYPE=image/jpeg:https://duxburystudentunion.org/wp-content/uploads/2026/03/Operation-Deep-Code-Thursday-March-26-at-DSU.jpg
END:VEVENT
BEGIN:VEVENT
DTSTART;TZID=America/New_York:20260421T090000
DTEND;TZID=America/New_York:20260421T140000
DTSTAMP:20260425T065359
CREATED:20260404T152445Z
LAST-MODIFIED:20260404T153839Z
UID:10000172-1776762000-1776780000@duxburystudentunion.org
SUMMARY:Boston Sports Challenge Day
DESCRIPTION:Join us on Tuesday\, April 21st from 9:00 AM – 2:00 PM for Boston Sports Challenge Day camp. \nGet ready for the ultimate New England sports mashup! From the excitement of the Boston Marathon to Opening Day at Fenway\, we’re bringing the action to YOU. \nHow do athletes train their bodies and their minds? You’ll find out as we jump into backyard relays\, pool challenges\, sports trivia\, and energy-packed games. Refuel with snacks designed to keep you going strong just like the pros. \nThink you’ve got what it takes to go the distance? Let’s find out. \nDrop off at DSU at 9am and pickup at 2pm. \nWhat to bring: \n\nBring a bathing suit\, towel. Goggles are optional.\nAll campers are required to complete a one-time Percy Walker Pool consent form for the 2025-26 school year.\nCampers may bring nut-free snacks and a water bottle.\nSnack\, Lunch\, and Blender Cafe treat is included in the price of camp.\nPlease advise of any allergies.\n\nFee: $75 per student. \nA late fee is $25 for every 15 minutes after 2pm. Please make pickup plans with DSU and your child prior to the end of the day. All camp fees are non-refundable. 
URL:https://duxburystudentunion.org/event/boston-sports-challenge-day/
LOCATION:Duxbury Student Union\, 147 St. George Street\, Duxbury\, MA\, 02332\, United States
CATEGORIES:After School,Camp,Duxbury Schools
ATTACH;FMTTYPE=image/jpeg:https://duxburystudentunion.org/wp-content/uploads/2026/04/Boston-Spring-Training-Camp-April-2026.jpg
END:VEVENT
END:VCALENDAR